BEGIN:VCALENDAR
VERSION:2.0
PRODID:-//UPIKE//NONSGML v1.0//EN
CALSCALE:GREGORIAN
METHOD:PUBLISH
BEGIN:VEVENT
UID:6936-0
SUMMARY:4/19 3:00 PM University of Pikeville Baseball vs Georgetown College (Ky.)
DTSTART:20190419T190000Z
DTEND:20190419T220000Z
DTSTAMP:20190313T155406Z
LAST-MODIFIED:20190313T155406Z
SEQUENCE:0
DESCRIPTION:University of Pikeville Baseball vs Georgetown College (Ky.)n https://www.upikebears.com/calendar.aspx?id=5106
END:VEVENT
END:VCALENDAR