BEGIN:VCALENDAR
VERSION:2.0
PRODID:-//UPIKE//NONSGML v1.0//EN
CALSCALE:GREGORIAN
METHOD:PUBLISH
BEGIN:VEVENT
UID:6932-0
SUMMARY:4/18 University of Pikeville Men's Bowling vs USBC Intercollegiate Team Championships
DTSTART:20190418T000000Z
DTEND:20190420T035900Z
DTSTAMP:20190313T155405Z
LAST-MODIFIED:20190313T155405Z
SEQUENCE:0
DESCRIPTION:University of Pikeville Men's Bowling vs USBC Intercollegiate Team Championshipsn https://www.upikebears.com/calendar.aspx?id=4963
END:VEVENT
END:VCALENDAR