BEGIN:VCALENDAR
VERSION:2.0
PRODID:-//UPIKE//NONSGML v1.0//EN
CALSCALE:GREGORIAN
METHOD:PUBLISH
BEGIN:VEVENT
UID:6925-0
SUMMARY:4/16 1:00 PM University of Pikeville Softball vs Bluefield College
DTSTART:20190416T170000Z
DTEND:20190416T190000Z
DTSTAMP:20190313T155405Z
LAST-MODIFIED:20190313T155405Z
SEQUENCE:0
DESCRIPTION:University of Pikeville Softball vs Bluefield Collegen https://www.upikebears.com/calendar.aspx?id=5181
END:VEVENT
END:VCALENDAR