BEGIN:VCALENDAR
VERSION:2.0
PRODID:-//UPIKE//NONSGML v1.0//EN
CALSCALE:GREGORIAN
METHOD:PUBLISH
BEGIN:VEVENT
UID:6898-0
SUMMARY:4/7 1:00 PM University of Pikeville Women's Tennis at Cumberland University (Tenn.)
DTSTART:20190407T170000Z
DTEND:20190407T200000Z
DTSTAMP:20190313T155404Z
LAST-MODIFIED:20190313T155404Z
SEQUENCE:0
DESCRIPTION:University of Pikeville Women's Tennis at Cumberland University (Tenn.)n https://www.upikebears.com/calendar.aspx?id=5034
END:VEVENT
END:VCALENDAR