BEGIN:VCALENDAR
VERSION:2.0
PRODID:-//UPIKE//NONSGML v1.0//EN
CALSCALE:GREGORIAN
METHOD:PUBLISH
BEGIN:VEVENT
UID:6889-0
SUMMARY:4/6 University of Pikeville Women's Golf vs UPIKE Spring Invite
DTSTART:20190406T000000Z
DTEND:20190407T035900Z
DTSTAMP:20190313T155404Z
LAST-MODIFIED:20190313T155404Z
SEQUENCE:0
DESCRIPTION:University of Pikeville Women's Golf vs UPIKE Spring Inviten https://www.upikebears.com/calendar.aspx?id=5143
END:VEVENT
END:VCALENDAR