BEGIN:VCALENDAR
VERSION:2.0
PRODID:-//UPIKE//NONSGML v1.0//EN
CALSCALE:GREGORIAN
METHOD:PUBLISH
BEGIN:VEVENT
UID:6875-0
SUMMARY:3/30 1:00 PM University of Pikeville Women's Tennis vs University of the Cumberlands (Ky.)
DTSTART:20190330T170000Z
DTEND:20190330T200000Z
DTSTAMP:20190313T155403Z
LAST-MODIFIED:20190313T155403Z
SEQUENCE:0
DESCRIPTION:University of Pikeville Women's Tennis vs University of the Cumberlands (Ky.)n https://www.upikebears.com/calendar.aspx?id=5032
END:VEVENT
END:VCALENDAR