BEGIN:VCALENDAR
VERSION:2.0
PRODID:-//UPIKE//NONSGML v1.0//EN
CALSCALE:GREGORIAN
METHOD:PUBLISH
BEGIN:VEVENT
UID:6867-0
SUMMARY:3/29 3:00 PM University of Pikeville Softball at Lindsey Wilson College
DTSTART:20190329T190000Z
DTEND:20190329T210000Z
DTSTAMP:20190313T155403Z
LAST-MODIFIED:20190313T155403Z
SEQUENCE:0
DESCRIPTION:University of Pikeville Softball at Lindsey Wilson Collegen https://www.upikebears.com/calendar.aspx?id=5172
END:VEVENT
END:VCALENDAR