BEGIN:VCALENDAR
VERSION:2.0
PRODID:-//UPIKE//NONSGML v1.0//EN
CALSCALE:GREGORIAN
METHOD:PUBLISH
BEGIN:VEVENT
UID:6860-0
SUMMARY:3/29 University of Pikeville Men's Bowling vs NAIA Invitational
DTSTART:20190329T000000Z
DTEND:20190331T035900Z
DTSTAMP:20190313T155403Z
LAST-MODIFIED:20190313T155403Z
SEQUENCE:0
DESCRIPTION:University of Pikeville Men's Bowling vs NAIA Invitationaln https://www.upikebears.com/calendar.aspx?id=4962
END:VEVENT
END:VCALENDAR