BEGIN:VCALENDAR
VERSION:2.0
PRODID:-//UPIKE//NONSGML v1.0//EN
CALSCALE:GREGORIAN
METHOD:PUBLISH
BEGIN:VEVENT
UID:6854-0
SUMMARY:3/26 4:00 PM University of Pikeville Softball at Asbury University
DTSTART:20190326T200000Z
DTEND:20190326T220000Z
DTSTAMP:20190313T155403Z
LAST-MODIFIED:20190313T155403Z
SEQUENCE:0
DESCRIPTION:University of Pikeville Softball at Asbury Universityn https://www.upikebears.com/calendar.aspx?id=5170
END:VEVENT
END:VCALENDAR