BEGIN:VCALENDAR
VERSION:2.0
PRODID:-//UPIKE//NONSGML v1.0//EN
CALSCALE:GREGORIAN
METHOD:PUBLISH
BEGIN:VEVENT
UID:6852-0
SUMMARY:3/26 3:00 PM University of Pikeville Softball at Asbury College (Ky.)
DTSTART:20190326T190000Z
DTEND:20190326T210000Z
DTSTAMP:20190313T155403Z
LAST-MODIFIED:20190313T155403Z
SEQUENCE:0
DESCRIPTION:University of Pikeville Softball at Asbury College (Ky.)n https://www.upikebears.com/calendar.aspx?id=5120
END:VEVENT
END:VCALENDAR