BEGIN:VCALENDAR
VERSION:2.0
PRODID:-//UPIKE//NONSGML v1.0//EN
CALSCALE:GREGORIAN
METHOD:PUBLISH
BEGIN:VEVENT
UID:625772-0
SUMMARY:2/19 University of Pikeville Men's Bowling vs Hoosier Classic
DTSTART:20220219T000000Z
DTEND:20220220T045900Z
DTSTAMP:20210816T215323Z
LAST-MODIFIED:20210816T215323Z
SEQUENCE:0
DESCRIPTION:University of Pikeville Men's Bowling vs Hoosier Classicn https://www.upikebears.com/calendar.aspx?id=6462
END:VEVENT
END:VCALENDAR