BEGIN:VCALENDAR
VERSION:2.0
PRODID:-//UPIKE//NONSGML v1.0//EN
CALSCALE:GREGORIAN
METHOD:PUBLISH
BEGIN:VEVENT
UID:625767-0
SUMMARY:1/22 University of Pikeville Men's Bowling vs Cincinnati Collegiate Classic
DTSTART:20220122T000000Z
DTEND:20220123T045900Z
DTSTAMP:20210816T215322Z
LAST-MODIFIED:20210816T215322Z
SEQUENCE:0
DESCRIPTION:University of Pikeville Men's Bowling vs Cincinnati Collegiate Classicn https://www.upikebears.com/calendar.aspx?id=6459
END:VEVENT
END:VCALENDAR