BEGIN:VCALENDAR
VERSION:2.0
PRODID:-//UPIKE//NONSGML v1.0//EN
CALSCALE:GREGORIAN
METHOD:PUBLISH
BEGIN:VEVENT
UID:625237-0
SUMMARY:11/6 University of Pikeville Women's Cross Country at Mid-South Conference Championships
DTSTART:20211106T000000Z
DTEND:20211106T070000Z
DTSTAMP:20210816T155320Z
LAST-MODIFIED:20210816T155320Z
SEQUENCE:0
DESCRIPTION:University of Pikeville Women's Cross Country at Mid-South Conference Championshipsn https://www.upikebears.com/calendar.aspx?id=6448
END:VEVENT
END:VCALENDAR