BEGIN:VCALENDAR
VERSION:2.0
PRODID:-//UPIKE//NONSGML v1.0//EN
CALSCALE:GREGORIAN
METHOD:PUBLISH
BEGIN:VEVENT
UID:615923-0
SUMMARY:Alumni and Friends – Greenville\, SC
DTSTART:20210930T183000Z
DTEND:20210930T203000Z
DTSTAMP:20210809T121051Z
LAST-MODIFIED:20210809T121052Z
SEQUENCE:0
DESCRIPTION:\nThursday\, September 30\, 2021\n\n\n\n6:30 pm Meet and Greet\n\n\n\n7:00 pm Dinner\n\n\n\nHalls Chophouse550 South Main StreetGreenville\, SC 29601\n\n\n\nRSVP by Friday\, September 24\n\n\n\nBusiness Casual Attire\n
END:VEVENT
END:VCALENDAR