BEGIN:VCALENDAR
VERSION:2.0
PRODID:-//UPIKE//NONSGML v1.0//EN
CALSCALE:GREGORIAN
METHOD:PUBLISH
BEGIN:VEVENT
UID:59348-0
SUMMARY:1/16 4:00 PM University of Pikeville Men's Basketball at Cumberland University (Tenn.)
DTSTART:20210116T210000Z
DTEND:20210116T230000Z
DTSTAMP:20201015T005330Z
LAST-MODIFIED:20201015T005330Z
SEQUENCE:0
DESCRIPTION:University of Pikeville Men's Basketball at Cumberland University (Tenn.)n https://www.upikebears.com/calendar.aspx?id=5944
END:VEVENT
END:VCALENDAR