BEGIN:VCALENDAR
VERSION:2.0
PRODID:-//UPIKE//NONSGML v1.0//EN
CALSCALE:GREGORIAN
METHOD:PUBLISH
BEGIN:VEVENT
UID:59330-0
SUMMARY:1/30 4:00 PM University of Pikeville Men's Basketball at Georgetown College (Ky.)
DTSTART:20210130T210000Z
DTEND:20210130T230000Z
DTSTAMP:20201015T005326Z
LAST-MODIFIED:20201015T005326Z
SEQUENCE:0
DESCRIPTION:University of Pikeville Men's Basketball at Georgetown College (Ky.)n https://www.upikebears.com/calendar.aspx?id=5948
END:VEVENT
END:VCALENDAR