BEGIN:VCALENDAR
VERSION:2.0
PRODID:-//UPIKE//NONSGML v1.0//EN
CALSCALE:GREGORIAN
METHOD:PUBLISH
BEGIN:VEVENT
UID:592496-0
SUMMARY:9/13 University of Pikeville Men's Golf vs ALC Fall Invite
DTSTART:20210913T000000Z
DTEND:20210914T035900Z
DTSTAMP:20210721T195323Z
LAST-MODIFIED:20210721T195323Z
SEQUENCE:0
DESCRIPTION:University of Pikeville Men's Golf vs ALC Fall Inviten https://www.upikebears.com/calendar.aspx?id=6402
END:VEVENT
END:VCALENDAR