BEGIN:VCALENDAR
VERSION:2.0
PRODID:-//UPIKE//NONSGML v1.0//EN
CALSCALE:GREGORIAN
METHOD:PUBLISH
BEGIN:VEVENT
UID:59056-0
SUMMARY:1/2 2:00 PM University of Pikeville Women's Basketball vs Shawnee State University (Ohio)
DTSTART:20210102T190000Z
DTEND:20210102T210000Z
DTSTAMP:20200929T185331Z
LAST-MODIFIED:20200929T185331Z
SEQUENCE:0
DESCRIPTION:University of Pikeville Women's Basketball vs Shawnee State University (Ohio)n https://www.upikebears.com/calendar.aspx?id=5911
END:VEVENT
END:VCALENDAR