BEGIN:VCALENDAR
VERSION:2.0
PRODID:-//UPIKE//NONSGML v1.0//EN
CALSCALE:GREGORIAN
METHOD:PUBLISH
BEGIN:VEVENT
UID:59051-0
SUMMARY:1/16 University of Pikeville Women's Basketball at Cumberland University (Tenn.)
DTSTART:20210116T000000Z
DTEND:20210116T070000Z
DTSTAMP:20200929T185329Z
LAST-MODIFIED:20200929T185329Z
SEQUENCE:0
DESCRIPTION:University of Pikeville Women's Basketball at Cumberland University (Tenn.)n https://www.upikebears.com/calendar.aspx?id=5916
END:VEVENT
END:VCALENDAR