BEGIN:VCALENDAR
VERSION:2.0
PRODID:-//UPIKE//NONSGML v1.0//EN
CALSCALE:GREGORIAN
METHOD:PUBLISH
BEGIN:VEVENT
UID:59040-0
SUMMARY:1/30 2:00 PM University of Pikeville Women's Basketball at Georgetown College (Ky.)
DTSTART:20210130T190000Z
DTEND:20210130T210000Z
DTSTAMP:20200929T185326Z
LAST-MODIFIED:20200929T185326Z
SEQUENCE:0
DESCRIPTION:University of Pikeville Women's Basketball at Georgetown College (Ky.)n https://www.upikebears.com/calendar.aspx?id=5920
END:VEVENT
END:VCALENDAR