BEGIN:VCALENDAR
VERSION:2.0
PRODID:-//UPIKE//NONSGML v1.0//EN
CALSCALE:GREGORIAN
METHOD:PUBLISH
BEGIN:VEVENT
UID:59032-0
SUMMARY:2/18 University of Pikeville Women's Basketball at Bethel University (Tenn.)
DTSTART:20210218T000000Z
DTEND:20210218T070000Z
DTSTAMP:20200929T185323Z
LAST-MODIFIED:20200929T185323Z
SEQUENCE:0
DESCRIPTION:University of Pikeville Women's Basketball at Bethel University (Tenn.)n https://www.upikebears.com/calendar.aspx?id=5926
END:VEVENT
END:VCALENDAR