BEGIN:VCALENDAR
VERSION:2.0
PRODID:-//UPIKE//NONSGML v1.0//EN
CALSCALE:GREGORIAN
METHOD:PUBLISH
BEGIN:VEVENT
UID:589345-0
SUMMARY:9/1 2:00 PM University of Pikeville Men's Soccer vs Milligan University
DTSTART:20210901T180000Z
DTEND:20210901T200000Z
DTSTAMP:20210719T135329Z
LAST-MODIFIED:20210719T135329Z
SEQUENCE:0
LOCATION:Pikeville, Ky., Bob Amos Complex
DESCRIPTION:University of Pikeville Men's Soccer vs Milligan UniversitynStreaming Video: https://upikebears.com/sports/2020/10/14/upike-sports-network.aspxn https://www.upikebears.com/calendar.aspx?id=6400
END:VEVENT
END:VCALENDAR