BEGIN:VCALENDAR
VERSION:2.0
PRODID:-//UPIKE//NONSGML v1.0//EN
CALSCALE:GREGORIAN
METHOD:PUBLISH
BEGIN:VEVENT
UID:585098-0
SUMMARY:9/21 5:30 PM University of Pikeville Women's Soccer at Campbellsville University
DTSTART:20210921T213000Z
DTEND:20210921T233000Z
DTSTAMP:20210715T155327Z
LAST-MODIFIED:20210715T155327Z
SEQUENCE:0
DESCRIPTION:University of Pikeville Women's Soccer at Campbellsville UniversitynStreaming Video: https://campbellsvilletigers.com/watch/?Archive=2491&type=Liven https://www.upikebears.com/calendar.aspx?id=6384
END:VEVENT
END:VCALENDAR