BEGIN:VCALENDAR
VERSION:2.0
PRODID:-//UPIKE//NONSGML v1.0//EN
CALSCALE:GREGORIAN
METHOD:PUBLISH
BEGIN:VEVENT
UID:584436-0
SUMMARY:9/25 4:00 PM University of Pikeville Football vs Webber International
DTSTART:20210925T200000Z
DTEND:20210925T230000Z
DTSTAMP:20210714T235331Z
LAST-MODIFIED:20210714T235331Z
SEQUENCE:0
LOCATION:Pikeville, KY, Hambley Athletic Complex
DESCRIPTION:University of Pikeville Football vs Webber InternationalnStreaming Video: https://upikebears.com/sports/2020/10/14/upike-sports-network.aspxn https://www.upikebears.com/calendar.aspx?id=6368
END:VEVENT
END:VCALENDAR