BEGIN:VCALENDAR
VERSION:2.0
PRODID:-//UPIKE//NONSGML v1.0//EN
CALSCALE:GREGORIAN
METHOD:PUBLISH
BEGIN:VEVENT
UID:576612-0
SUMMARY:11/18 6:00 PM University of Pikeville Women's Basketball vs Campbellsville University
DTSTART:20211118T230000Z
DTEND:20211119T010000Z
DTSTAMP:20210707T175338Z
LAST-MODIFIED:20210707T175338Z
SEQUENCE:0
LOCATION:Pikeville, KY, Appalachian Wireless Arena
DESCRIPTION:University of Pikeville Women's Basketball vs Campbellsville UniversitynStreaming Video: https://upikebears.com/sports/2020/10/14/upike-sports-network.aspxn https://www.upikebears.com/calendar.aspx?id=6308
END:VEVENT
END:VCALENDAR