BEGIN:VCALENDAR
VERSION:2.0
PRODID:-//UPIKE//NONSGML v1.0//EN
CALSCALE:GREGORIAN
METHOD:PUBLISH
BEGIN:VEVENT
UID:576600-0
SUMMARY:12/4 2:00 PM University of Pikeville Women's Basketball at Martin Methodist
DTSTART:20211204T190000Z
DTEND:20211204T210000Z
DTSTAMP:20210707T175335Z
LAST-MODIFIED:20210707T175335Z
SEQUENCE:0
DESCRIPTION:University of Pikeville Women's Basketball at Martin Methodistn https://www.upikebears.com/calendar.aspx?id=6313
END:VEVENT
END:VCALENDAR