BEGIN:VCALENDAR
VERSION:2.0
PRODID:-//UPIKE//NONSGML v1.0//EN
CALSCALE:GREGORIAN
METHOD:PUBLISH
BEGIN:VEVENT
UID:576585-0
SUMMARY:1/22 2:00 PM University of Pikeville Women's Basketball vs Life University
DTSTART:20220122T190000Z
DTEND:20220122T210000Z
DTSTAMP:20210707T175331Z
LAST-MODIFIED:20210707T175331Z
SEQUENCE:0
LOCATION:Pikeville, KY, Appalachian Wireless Arena
DESCRIPTION:University of Pikeville Women's Basketball vs Life UniversitynStreaming Video: https://upikebears.com/sports/2020/10/14/upike-sports-network.aspxn https://www.upikebears.com/calendar.aspx?id=6326
END:VEVENT
END:VCALENDAR