BEGIN:VCALENDAR
VERSION:2.0
PRODID:-//UPIKE//NONSGML v1.0//EN
CALSCALE:GREGORIAN
METHOD:PUBLISH
BEGIN:VEVENT
UID:498973-0
SUMMARY:Nursing\, Social Work & Education Commencement
DTSTART:20210429T180000Z
DTEND:20210429T193000Z
DTSTAMP:20210415T153402Z
LAST-MODIFIED:20210422T135616Z
SEQUENCE:0
LOCATION:Appalachian Wireless Arena &#8211; UPIKE Events
DESCRIPTION:\nVisit our 2021 UPIKE Commencement page for more information!\n\n\n\nAppalachian Wireless Arena\n
END:VEVENT
END:VCALENDAR