BEGIN:VCALENDAR
VERSION:2.0
PRODID:-//UPIKE//NONSGML v1.0//EN
CALSCALE:GREGORIAN
METHOD:PUBLISH
BEGIN:VEVENT
UID:49142-0
SUMMARY:9/27 3:00 PM University of Pikeville Men's Soccer at Milligan University – EXHIBITION
DTSTART:20200927T190000Z
DTEND:20200927T210000Z
DTSTAMP:20200922T195354Z
LAST-MODIFIED:20200922T195354Z
SEQUENCE:0
DESCRIPTION:University of Pikeville Men's Soccer at Milligan University - EXHIBITIONn https://www.upikebears.com/calendar.aspx?id=5899
END:VEVENT
END:VCALENDAR