BEGIN:VCALENDAR
VERSION:2.0
PRODID:-//UPIKE//NONSGML v1.0//EN
CALSCALE:GREGORIAN
METHOD:PUBLISH
BEGIN:VEVENT
UID:486906-0
SUMMARY:Ky Bar Foundation Judicial Speaker Series ONLINE – Jeremy Burnette
DTSTART:20210408T110000Z
DTEND:20210408T120000Z
DTSTAMP:20210407T141259Z
LAST-MODIFIED:20210407T141305Z
SEQUENCE:0
DESCRIPTION:\nWatch the premiere on April 8th at 11:00 a.m. at https://youtube.com/user/upikebears \n\n\n\nSponsored by the Kentucky Bar Foundation\, the series will feature a variety of attorneys who will educate the viewers on such judicial subjects as family law and consumer law as well as legal issues relating to healthcare.\n
END:VEVENT
END:VCALENDAR