BEGIN:VCALENDAR
VERSION:2.0
PRODID:-//UPIKE//NONSGML v1.0//EN
CALSCALE:GREGORIAN
METHOD:PUBLISH
BEGIN:VEVENT
UID:467449-0
SUMMARY:Ky Bar Foundation Judicial Speaker Series ONLINE – Alex Ward
DTSTART:20210330T110000Z
DTEND:20210330T120000Z
DTSTAMP:20210323T130603Z
LAST-MODIFIED:20210323T130606Z
SEQUENCE:0
DESCRIPTION:\nWatch the premiere on March 25th at 11:00 a.m. at https://youtu.be/NBfkrnVzYnI\n\n\n\nSponsored by the Kentucky Bar Foundation\, the series will feature a variety of attorneys who will educate the viewers on such judicial subjects as family law and consumer law as well as legal issues relating to healthcare.\n
END:VEVENT
END:VCALENDAR