BEGIN:VCALENDAR
VERSION:2.0
PRODID:-//UPIKE//NONSGML v1.0//EN
CALSCALE:GREGORIAN
METHOD:PUBLISH
BEGIN:VEVENT
UID:464221-0
SUMMARY:3/21 2:00 PM University of Pikeville Softball vs Lindsey Wilson College (Ky.)
DTSTART:20210321T180000Z
DTEND:20210321T200000Z
DTSTAMP:20210317T165320Z
LAST-MODIFIED:20210317T165320Z
SEQUENCE:0
DESCRIPTION:University of Pikeville Softball vs Lindsey Wilson College (Ky.)nStreaming Video: https://upikebears.com/sports/2020/10/5/ticket-page.aspxn https://www.upikebears.com/calendar.aspx?id=6228
END:VEVENT
END:VCALENDAR