BEGIN:VCALENDAR
VERSION:2.0
PRODID:-//UPIKE//NONSGML v1.0//EN
CALSCALE:GREGORIAN
METHOD:PUBLISH
BEGIN:VEVENT
UID:462035-0
SUMMARY:3/13 2:00 PM [I] University of Pikeville Baseball at Freed-Hardeman University (Tenn.)
DTSTART:20210313T190000Z
DTEND:20210313T220000Z
DTSTAMP:20210313T185409Z
LAST-MODIFIED:20210313T185409Z
SEQUENCE:0
DESCRIPTION:[I] University of Pikeville Baseball at Freed-Hardeman University (Tenn.)nn https://www.upikebears.com/calendar.aspx?id=6218
END:VEVENT
END:VCALENDAR