BEGIN:VCALENDAR
VERSION:2.0
PRODID:-//UPIKE//NONSGML v1.0//EN
CALSCALE:GREGORIAN
METHOD:PUBLISH
BEGIN:VEVENT
UID:460002-0
SUMMARY:3/9 3:00 PM [W] University of Pikeville Softball vs Asbury College (Ky.)
DTSTART:20210309T200000Z
DTEND:20210309T220000Z
DTSTAMP:20210310T005329Z
LAST-MODIFIED:20210310T005329Z
SEQUENCE:0
DESCRIPTION:[W] University of Pikeville Softball vs Asbury College (Ky.)nW 7-4nStreaming Video: https://upikebears.com/sports/2020/10/5/ticket-page.aspxn https://www.upikebears.com/calendar.aspx?id=6213
END:VEVENT
END:VCALENDAR