BEGIN:VCALENDAR
VERSION:2.0
PRODID:-//UPIKE//NONSGML v1.0//EN
CALSCALE:GREGORIAN
METHOD:PUBLISH
BEGIN:VEVENT
UID:431399-0
SUMMARY:2/25 3:00 PM University of Pikeville Softball at Cumberland University (Tenn.)
DTSTART:20210225T200000Z
DTEND:20210225T220000Z
DTSTAMP:20210224T035343Z
LAST-MODIFIED:20210224T035343Z
SEQUENCE:0
DESCRIPTION:University of Pikeville Softball at Cumberland University (Tenn.)n https://www.upikebears.com/calendar.aspx?id=6204
END:VEVENT
END:VCALENDAR