BEGIN:VCALENDAR
VERSION:2.0
PRODID:-//UPIKE//NONSGML v1.0//EN
CALSCALE:GREGORIAN
METHOD:PUBLISH
BEGIN:VEVENT
UID:426578-0
SUMMARY:3/19 University of Pikeville Men's Track and Field  Rams College Invitational
DTSTART:20210319T000000Z
DTEND:20210319T070000Z
DTSTAMP:20210222T235339Z
LAST-MODIFIED:20210222T235339Z
SEQUENCE:0
DESCRIPTION:University of Pikeville Men's Track and Field  Rams College Invitationaln https://www.upikebears.com/calendar.aspx?id=6203
END:VEVENT
END:VCALENDAR