BEGIN:VCALENDAR
VERSION:2.0
PRODID:-//UPIKE//NONSGML v1.0//EN
CALSCALE:GREGORIAN
METHOD:PUBLISH
BEGIN:VEVENT
UID:422364-0
SUMMARY:2/27 6:00 PM University of Pikeville Cheer  Georgetown College (Ky.)
DTSTART:20210227T230000Z
DTEND:20210228T020000Z
DTSTAMP:20210221T235332Z
LAST-MODIFIED:20210221T235332Z
SEQUENCE:0
LOCATION:Pikeville, KY, UPIKE Gym
DESCRIPTION:University of Pikeville Cheer  Georgetown College (Ky.)n https://www.upikebears.com/calendar.aspx?id=6202
END:VEVENT
END:VCALENDAR