BEGIN:VCALENDAR
VERSION:2.0
PRODID:-//UPIKE//NONSGML v1.0//EN
CALSCALE:GREGORIAN
METHOD:PUBLISH
BEGIN:VEVENT
UID:397133-0
SUMMARY:3/19 6:00 PM University of Pikeville Baseball at Georgia Gwinnett College
DTSTART:20210319T220000Z
DTEND:20210320T010000Z
DTSTAMP:20210214T235321Z
LAST-MODIFIED:20210214T235321Z
SEQUENCE:0
DESCRIPTION:University of Pikeville Baseball at Georgia Gwinnett Collegen https://www.upikebears.com/calendar.aspx?id=6188
END:VEVENT
END:VCALENDAR