BEGIN:VCALENDAR
VERSION:2.0
PRODID:-//UPIKE//NONSGML v1.0//EN
CALSCALE:GREGORIAN
METHOD:PUBLISH
BEGIN:VEVENT
UID:388199-0
SUMMARY:2/22 University of Pikeville Women's Basketball vs MSC Tournament Opening Round
DTSTART:20210222T000000Z
DTEND:20210222T070000Z
DTSTAMP:20210212T225322Z
LAST-MODIFIED:20210212T225322Z
SEQUENCE:0
DESCRIPTION:University of Pikeville Women's Basketball vs MSC Tournament Opening Roundn https://www.upikebears.com/calendar.aspx?id=6186
END:VEVENT
END:VCALENDAR