BEGIN:VCALENDAR
VERSION:2.0
PRODID:-//UPIKE//NONSGML v1.0//EN
CALSCALE:GREGORIAN
METHOD:PUBLISH
BEGIN:VEVENT
UID:365405-0
SUMMARY:Nursing Entrance Exams
DTSTART:20210220T090000Z
DTEND:20210220T120000Z
DTSTAMP:20210205T200114Z
LAST-MODIFIED:20210205T200122Z
SEQUENCE:0
DESCRIPTION:\nLocation: Armington 458\n
END:VEVENT
END:VCALENDAR