BEGIN:VCALENDAR
VERSION:2.0
PRODID:-//UPIKE//NONSGML v1.0//EN
CALSCALE:GREGORIAN
METHOD:PUBLISH
BEGIN:VEVENT
UID:358558-0
SUMMARY:3/6 1:00 PM University of Pikeville Men's Tennis at Indiana University Southeast
DTSTART:20210306T180000Z
DTEND:20210306T210000Z
DTSTAMP:20210203T195334Z
LAST-MODIFIED:20210203T195334Z
SEQUENCE:0
DESCRIPTION:University of Pikeville Men's Tennis at Indiana University Southeastn https://www.upikebears.com/calendar.aspx?id=6162
END:VEVENT
END:VCALENDAR