BEGIN:VCALENDAR
VERSION:2.0
PRODID:-//UPIKE//NONSGML v1.0//EN
CALSCALE:GREGORIAN
METHOD:PUBLISH
BEGIN:VEVENT
UID:33569-0
SUMMARY:10/31 3:00 PM University of Pikeville Women's Soccer at Carolina University
DTSTART:20201031T190000Z
DTEND:20201031T210000Z
DTSTAMP:20200909T175320Z
LAST-MODIFIED:20200909T175320Z
SEQUENCE:0
DESCRIPTION:University of Pikeville Women's Soccer at Carolina Universityn https://www.upikebears.com/calendar.aspx?id=5870
END:VEVENT
END:VCALENDAR