BEGIN:VCALENDAR
VERSION:2.0
PRODID:-//UPIKE//NONSGML v1.0//EN
CALSCALE:GREGORIAN
METHOD:PUBLISH
BEGIN:VEVENT
UID:33563-0
SUMMARY:10/9 1:00 PM University of Pikeville Women's Soccer vs Bob Jones University
DTSTART:20201009T170000Z
DTEND:20201009T190000Z
DTSTAMP:20200909T175320Z
LAST-MODIFIED:20200909T175320Z
SEQUENCE:0
DESCRIPTION:University of Pikeville Women's Soccer vs Bob Jones Universityn https://www.upikebears.com/calendar.aspx?id=5868
END:VEVENT
END:VCALENDAR