BEGIN:VCALENDAR
VERSION:2.0
PRODID:-//UPIKE//NONSGML v1.0//EN
CALSCALE:GREGORIAN
METHOD:PUBLISH
BEGIN:VEVENT
UID:33216-0
SUMMARY:Reflections on a Pandemic: Call for Entries
DTSTART:20201022T000000Z
DTEND:20201022T235900Z
DTSTAMP:20200827T124904Z
LAST-MODIFIED:20201124T194545Z
SEQUENCE:0
DESCRIPTION:\nDeadline for call for entry is October 22nd\, 2020\n\n\n\nExhibit will begin Mid-October and run till January 2021 in the Weber Art Gallery on campus.\n\n\n\nFurther information can be found in the link below:\n\n\n\n\n\nIf you have questions\, please contact Patricia Kowalok or Petra Carroll at:\n\n\n\npatriciakowalok@upike.edu\n\n\n\npetracarroll@upike.edu\n
END:VEVENT
END:VCALENDAR