BEGIN:VCALENDAR
VERSION:2.0
PRODID:-//UPIKE//NONSGML v1.0//EN
CALSCALE:GREGORIAN
METHOD:PUBLISH
BEGIN:VEVENT
UID:32345-0
SUMMARY:10/30 University of Pikeville Women's Golf vs MSC Fall Preview
DTSTART:20201030T000000Z
DTEND:20201031T035900Z
DTSTAMP:20200710T165333Z
LAST-MODIFIED:20200710T165333Z
SEQUENCE:0
DESCRIPTION:University of Pikeville Women's Golf vs MSC Fall Previewn https://www.upikebears.com/calendar.aspx?id=5849
END:VEVENT
END:VCALENDAR