BEGIN:VCALENDAR
VERSION:2.0
PRODID:-//UPIKE//NONSGML v1.0//EN
CALSCALE:GREGORIAN
METHOD:PUBLISH
BEGIN:VEVENT
UID:32255-0
SUMMARY:10/24 2:00 PM University of Pikeville Women's Soccer vs Freed-Hardeman University (Tenn.)
DTSTART:20201024T180000Z
DTEND:20201024T200000Z
DTSTAMP:20200707T185324Z
LAST-MODIFIED:20200707T185324Z
SEQUENCE:0
DESCRIPTION:University of Pikeville Women's Soccer vs Freed-Hardeman University (Tenn.)n https://www.upikebears.com/calendar.aspx?id=5842
END:VEVENT
END:VCALENDAR