BEGIN:VCALENDAR
VERSION:2.0
PRODID:-//UPIKE//NONSGML v1.0//EN
CALSCALE:GREGORIAN
METHOD:PUBLISH
BEGIN:VEVENT
UID:32247-0
SUMMARY:9/26 5:00 PM University of Pikeville Women's Soccer at Lindsey Wilson College (Ky.)
DTSTART:20200926T210000Z
DTEND:20200926T230000Z
DTSTAMP:20200707T185323Z
LAST-MODIFIED:20200707T185323Z
SEQUENCE:0
DESCRIPTION:University of Pikeville Women's Soccer at Lindsey Wilson College (Ky.)n https://www.upikebears.com/calendar.aspx?id=5834
END:VEVENT
END:VCALENDAR