BEGIN:VCALENDAR
VERSION:2.0
PRODID:-//UPIKE//NONSGML v1.0//EN
CALSCALE:GREGORIAN
METHOD:PUBLISH
BEGIN:VEVENT
UID:32243-0
SUMMARY:9/12 4:30 PM University of Pikeville Women's Soccer at Johnson University – Tennesee
DTSTART:20200912T203000Z
DTEND:20200912T223000Z
DTSTAMP:20200707T185323Z
LAST-MODIFIED:20200707T185323Z
SEQUENCE:0
DESCRIPTION:University of Pikeville Women's Soccer at Johnson University - Tenneseen https://www.upikebears.com/calendar.aspx?id=5832
END:VEVENT
END:VCALENDAR