BEGIN:VCALENDAR
VERSION:2.0
PRODID:-//UPIKE//NONSGML v1.0//EN
CALSCALE:GREGORIAN
METHOD:PUBLISH
BEGIN:VEVENT
UID:32193-0
SUMMARY:10/28 7:00 PM University of Pikeville Men's Soccer at Shawnee State University (Ohio)
DTSTART:20201028T010000Z
DTEND:20201029T230000Z
DTSTAMP:20200706T175410Z
LAST-MODIFIED:20200706T175410Z
SEQUENCE:0
DESCRIPTION:University of Pikeville Men's Soccer at Shawnee State University (Ohio)n https://www.upikebears.com/calendar.aspx?id=5829
END:VEVENT
END:VCALENDAR