BEGIN:VCALENDAR
VERSION:2.0
PRODID:-//UPIKE//NONSGML v1.0//EN
CALSCALE:GREGORIAN
METHOD:PUBLISH
BEGIN:VEVENT
UID:32192-0
SUMMARY:10/24 4:00 PM University of Pikeville Men's Soccer vs Freed-Hardeman University (Tenn.)
DTSTART:20201024T200000Z
DTEND:20201024T220000Z
DTSTAMP:20200706T175410Z
LAST-MODIFIED:20200706T175410Z
SEQUENCE:0
DESCRIPTION:University of Pikeville Men's Soccer vs Freed-Hardeman University (Tenn.)n https://www.upikebears.com/calendar.aspx?id=5828
END:VEVENT
END:VCALENDAR